BEGIN:VCALENDAR
VERSION:2.0
PRODID:-//eventon.com NONSGML v1.0//EN
CALSCALE:GREGORIAN
METHOD:PUBLISH
BEGIN:VEVENT
UID:69e8fb2566648
DTSTAMP:20260422T164525Z
DTSTART:20260815T170000Z
DTEND:20260815T190000Z
LOCATION:
SUMMARY:INTARS BUSULIS un ABONEMENTA ORĶESTRIS
DESCRIPTION:VISS IR IESPĒJAMS&#8230;! Arī šogad uz Zeit Radošā Kvartā
 la skatuves atgriezīsies INTARS BUSULIS &amp; Abonementa orķestris. Past
 sti draugiem un tiekamies 15.AUGUSTĀ! Bērniem līdz 7 gadu vecumam ieeja
  bezmaksas Bērniem no 7 līdz 12 gadu vecumam biļete ar 50% atlaidi Konce
 rta sākums: 20:00 |&nbsp;Ieeja koncerta teritorijā: no 18:00 Koncerta apm
 eklētājiem visa[..]\nhttps://zeit.lv/blog/events/intars-busulis-un-abonem
 enta-orkestris/
URL:https://zeit.lv/blog/events/intars-busulis-un-abonementa-orkestris/
END:VEVENT
END:VCALENDAR